BEGIN:VCALENDAR
VERSION:2.0
PRODID:-//Swiss eGovernment Forum
//NONSGML v1.0//EN
CALSCALE:GREGORIAN
X-WR-CALNAME:Swiss eGovernment Forum
BEGIN:VEVENT
DTEND;VALUE=DATE:20260311T103000Z
UID:37015
DTSTAMP:20260420T044240Z
DESCRIPTION:Andreas Burren, Leiter Projekte, Betrieb &amp; Beschaffungswesen, Geschäftsstelle Digitale Verwaltung Schweiz DVS Aufgrund des breiten gesellschaftlichen und politischen Diskurses rund um die Einführung von Microsoft 365 in öffentlichen Verwaltungen hat die Geschäftsstelle DVS eine Studie beauftragt, die belastbare Fakten aufzeigt über die Voraussetzung und Konsequenzen eines Wechsels auf alternative Systeme. Das Referat führt in Thesen, Fragestellungen und Methodiken der Studie ein, welche ca. Mitte des Jahres 2026 veröffentlicht werden soll. &nbsp; &nbsp;
URL;VALUE=URI:https://e-governmentforum.ch/plenary-presentation/ausblick-dvs-studie-alternativen-zu-microsoft-365/
SUMMARY:Ausblick DVS-Studie: Alternativen zu Microsoft 365
DTSTART;VALUE=DATE:20260311T093000Z
TRANSP:OPAQUE
BEGIN:VALARM
ACTION:DISPLAY
TRIGGER;VALUE=DATE-TIME:20260420T044240Z
DESCRIPTION:Reminder for Ausblick DVS-Studie: Alternativen zu Microsoft 365
END:VALARM
END:VEVENT
END:VCALENDAR';
	