BEGIN:VCALENDAR
VERSION:2.0
PRODID:-//Swiss eGovernment Forum
//NONSGML v1.0//EN
CALSCALE:GREGORIAN
X-WR-CALNAME:Swiss eGovernment Forum
BEGIN:VEVENT
DTEND;VALUE=DATE:20260311T123500Z
UID:37850
DTSTAMP:20260420T044356Z
DESCRIPTION:Roman Bachmann, Business Analyst, Kanton St.Gallen, Sicherheits- und Justizdepartement, Migrationsamt Wie stellt eine Behörde besonders schützenswerte Personendaten innerhalb von 24 Stunden rechtssicher zur Verfügung – ohne Medienbruch, ohne CD, ohne Papier? Das Migrationsamt des Kantons St. Gallen zeigt, wie die digitale Akteneinsicht heute funktioniert: Anträge werden über den Online-Schalter eingereicht, in der zuständigen Fachabteilung geprüft und freigegeben. Anschliessend stellt die Fachanwendung die Akten digital bereit und übermittelt sie über die sichere Zustelllösung ePost an die Antragsstellende Person. Auch umfangreiche Aktenbestände lassen sich durch eine Aufteilung nachvollziehbar zugänglich machen. Der Case gibt einen praxisnahen Einblick in die Lösung, die organisatorischen und rechtlichen Anforderungen sowie die Erfahrungen aus dem Betrieb. Er zeigt, wie sich Datenschutz, Rechtssicherheit und Effizienz in einem konkreten Behördenprozess verbinden lassen.
URL;VALUE=URI:https://e-governmentforum.ch/plenary-presentation/digitale-akteneinsicht-beim-migrationsamt-st-gallen/
SUMMARY:Digitale Akteneinsicht beim Migrationsamt St. Gallen
DTSTART;VALUE=DATE:20260311T120500Z
TRANSP:OPAQUE
BEGIN:VALARM
ACTION:DISPLAY
TRIGGER;VALUE=DATE-TIME:20260420T044356Z
DESCRIPTION:Reminder for Digitale Akteneinsicht beim Migrationsamt St. Gallen
END:VALARM
END:VEVENT
END:VCALENDAR';
	