BEGIN:VCALENDAR
VERSION:2.0
PRODID:-//Swiss eGovernment Forum
//NONSGML v1.0//EN
CALSCALE:GREGORIAN
X-WR-CALNAME:Swiss eGovernment Forum
BEGIN:VEVENT
DTEND;VALUE=DATE:20260311T103000Z
UID:37390
DTSTAMP:20260420T043930Z
DESCRIPTION:Erich Hofer, Leiter Digital Management / Leiter der Arbeitsgruppe Workplace und Cloud Governance DVS, Bau- und Verkehrsdirektion des Kanton Bern Behörden müssen sich im Zuge der Verwaltungsdigitalisierung vertieft mit Cloud-Diensten wie Microsoft 365 und deren sicherem Einsatz befassen. Die Studie der Arbeitsgruppe «Cloud-Governance und Workplace» beschreibt die IST-Situation neutral, analysiert Risiken und zeigt risikomindernde sowie teils koordinationsbedürftige Massnahmen auf. Technische Lösungen werden nicht bewertet; die Erkenntnisse sollen als Grundlage für weitere Schritt dienen.
URL;VALUE=URI:https://e-governmentforum.ch/plenary-presentation/dvs-studie-second-source/
SUMMARY:DVS Studie: Second Source
DTSTART;VALUE=DATE:20260311T093000Z
TRANSP:OPAQUE
BEGIN:VALARM
ACTION:DISPLAY
TRIGGER;VALUE=DATE-TIME:20260420T043930Z
DESCRIPTION:Reminder for DVS Studie: Second Source
END:VALARM
END:VEVENT
END:VCALENDAR';
	