BEGIN:VCALENDAR
VERSION:2.0
PRODID:-//Swiss eGovernment Forum
//NONSGML v1.0//EN
CALSCALE:GREGORIAN
X-WR-CALNAME:Swiss eGovernment Forum
BEGIN:VEVENT
DTEND;VALUE=DATE:20260311T025500Z
UID:36949
DTSTAMP:20260420T044522Z
DESCRIPTION:Christian Heimann, Fachreferent, Bundesamt für Polizei Fachbereich Digitaltechnik, Standards und Public Key Infrastrukturen (DSP) Fabrice Gouzi, Sektionschef, Bundesamt für Statistik, Sektion Interoperabilitätsstelle Die Schweizer Bevölkerung hat am 28. September 2025 das Gesetz zur E-ID und die Vertrauensinfrastruktur angenommen. Damit elektronische Nachweise eindeutig definiert sind, werden ihre Inhalte auf der I14Y-Plattform beschrieben. Das Co-Referat erläutert, wie I14Y die Entwicklung, Abstimmung und Veröffentlichung inhaltlicher Standards elektronischer Nachweise unterstützt und welchen Nutzen dies für die Verwaltung hat. &nbsp; &nbsp;
URL;VALUE=URI:https://e-governmentforum.ch/plenary-presentation/e-id-und-beta-id-inhaltliche-standards-auf-i14y/
SUMMARY:E-ID und Beta-ID: Inhaltliche Standards auf I14Y
DTSTART;VALUE=DATE:20260311T022500Z
TRANSP:OPAQUE
BEGIN:VALARM
ACTION:DISPLAY
TRIGGER;VALUE=DATE-TIME:20260420T044522Z
DESCRIPTION:Reminder for E-ID und Beta-ID: Inhaltliche Standards auf I14Y
END:VALARM
END:VEVENT
END:VCALENDAR';
	