BEGIN:VCALENDAR
VERSION:2.0
PRODID:-//Swiss eGovernment Forum
//NONSGML v1.0//EN
CALSCALE:GREGORIAN
X-WR-CALNAME:Swiss eGovernment Forum
BEGIN:VEVENT
DTEND;VALUE=DATE:20260311T032500Z
UID:36825
DTSTAMP:20260420T050846Z
DESCRIPTION:Daniel Locher Leiter Datenmanagement, Kantonale Verwaltung St.Gallen, Finanzdepartement, Dienst für Informatikplanung Generative KI verändert die Arbeit in Verwaltungen grundlegend. Der Fokus liegt auf der strukturierten und sicheren Umsetzung von KI-Anwendungsfällen in einem kontrollierten Umfeld – von der Identifikation geeigneter Einsatzfelder über die methodische Herangehensweise bis zur technischen Umsetzung und dem Übergang von unkontrollierter zu gesteuerter Nutzung.
URL;VALUE=URI:https://e-governmentforum.ch/plenary-presentation/generative-ki-in-der-verwaltung-chancen-risiken/
SUMMARY:Generative KI in der Verwaltung: Chancen &amp; Risiken
DTSTART;VALUE=DATE:20260311T025500Z
TRANSP:OPAQUE
BEGIN:VALARM
ACTION:DISPLAY
TRIGGER;VALUE=DATE-TIME:20260420T050846Z
DESCRIPTION:Reminder for Generative KI in der Verwaltung: Chancen &amp; Risiken
END:VALARM
END:VEVENT
END:VCALENDAR';
	