BEGIN:VCALENDAR
VERSION:2.0
PRODID:-//Swiss eGovernment Forum
//NONSGML v1.0//EN
CALSCALE:GREGORIAN
X-WR-CALNAME:Swiss eGovernment Forum
BEGIN:VEVENT
DTEND;VALUE=DATE:20260311T035500Z
UID:36969
DTSTAMP:20260420T050239Z
DESCRIPTION:Sara Steiner, Bereichsleiterin Digitales und Projekte, Stadt Sursee Michael Vogel, Leiter Organisation &amp; Projekte, Gemeinde Horw Der Masterplan «Digitale Transformation K5Plus» ist die Antwort der Luzerner K5Plus-Gemeinden auf knappe Ressourcen, ähnliche Bedürfnisse und die Erkenntnis, dass die Herausforderungen weit über die Digitalisierung hinausgehen. Er zeigt, wie interkommunale Zusammenarbeit Synergien nutzt, um Prozesse und Kultur gemeinsam kundenzentriert zu verändern–im Zusammenspiel von Technologie, Dienstleistungsmodellen sowie Kultur und Mensch. &nbsp; &nbsp;
URL;VALUE=URI:https://e-governmentforum.ch/plenary-presentation/k5plus-neue-denkkultur-neue-verwaltung/
SUMMARY:K5Plus &#8211; Neue Denkkultur, neue Verwaltung.
DTSTART;VALUE=DATE:20260311T032500Z
TRANSP:OPAQUE
BEGIN:VALARM
ACTION:DISPLAY
TRIGGER;VALUE=DATE-TIME:20260420T050239Z
DESCRIPTION:Reminder for K5Plus &#8211; Neue Denkkultur, neue Verwaltung.
END:VALARM
END:VEVENT
END:VCALENDAR';
	