BEGIN:VCALENDAR
VERSION:2.0
PRODID:-//Swiss eGovernment Forum
//NONSGML v1.0//EN
CALSCALE:GREGORIAN
X-WR-CALNAME:Swiss eGovernment Forum
BEGIN:VEVENT
DTEND;VALUE=DATE:20260311T045500Z
UID:37037
DTSTAMP:20260420T044306Z
DESCRIPTION:Matthias Kaeser, ICT-Architekt, Bundesamt für Kommunikation BAKOM Martin Huber, Service Manager, Projektleiter, Bundesamt für Kommunikation BAKOM Das BAKOM geht neue Wege beim Ersatz einer über 25+ Jahre alten Software. Statt Pflichtenheft und Lösungskonzept, setzen wir auf Personas, Problem Statements und ein zirkuläres Vorgehen. Wir verknüpfen das CUXD-Modell mit der klassischen HERMES Projektmethode. Anhand unserer Erfolge aber auch unserer Fehlschläge möchten wir euch animieren, diese Kombination selber auszuprobieren. &nbsp; &nbsp;
URL;VALUE=URI:https://e-governmentforum.ch/plenary-presentation/mehr-mensch-weniger-wasserfall-unser-weg/
SUMMARY:Mehr Mensch, weniger Wasserfall &#8211; unser Weg
DTSTART;VALUE=DATE:20260311T042500Z
TRANSP:OPAQUE
BEGIN:VALARM
ACTION:DISPLAY
TRIGGER;VALUE=DATE-TIME:20260420T044306Z
DESCRIPTION:Reminder for Mehr Mensch, weniger Wasserfall &#8211; unser Weg
END:VALARM
END:VEVENT
END:VCALENDAR';
	