BEGIN:VCALENDAR
VERSION:2.0
PRODID:-//Swiss eGovernment Forum
//NONSGML v1.0//EN
CALSCALE:GREGORIAN
X-WR-CALNAME:Swiss eGovernment Forum
BEGIN:VEVENT
DTEND;VALUE=DATE:20260311T093000Z
UID:36892
DTSTAMP:20260420T044605Z
DESCRIPTION:Regierungsrat Martin Bühler Vorsteher des Departements für Finanzen und Gemeinden, Kanton Graubünden Eine wirkungsvoll aufeinander abgestimmte Zusammenarbeit zwischen Gemeinde, Kanton und Bund ist ein wichtiger Erfolgsfaktor für die digitale Transformation, so gelingt sie trotz unterschiedlicher Verantwortlichkeiten, Strukturen und Kulturen. Digitalisierung darf nicht als Einzelprojekt betrachtet werden, es ist eine gemeinsame Aufgabe.
URL;VALUE=URI:https://e-governmentforum.ch/plenary-presentation/von-bern-bis-zernez-so-gelingt-die-digitalisierung-ueber-die-foederalen-grenzen-hinweg/
SUMMARY:Von Bern bis Zernez: So gelingt die Digitalisierung über die föderalen Grenzen hinweg
DTSTART;VALUE=DATE:20260311T092000Z
TRANSP:OPAQUE
BEGIN:VALARM
ACTION:DISPLAY
TRIGGER;VALUE=DATE-TIME:20260420T044605Z
DESCRIPTION:Reminder for Von Bern bis Zernez: So gelingt die Digitalisierung über die föderalen Grenzen hinweg
END:VALARM
END:VEVENT
END:VCALENDAR';
	