BEGIN:VCALENDAR
VERSION:2.0
PRODID:-//Swiss eGovernment Forum
//NONSGML v1.0//EN
CALSCALE:GREGORIAN
X-WR-CALNAME:Swiss eGovernment Forum
BEGIN:VEVENT
DTEND;VALUE=DATE:20260311T120500Z
UID:36823
DTSTAMP:20260420T044422Z
DESCRIPTION:Yves de Mestral Stadtammann Zürich 03 / Präsident Konferenz Stadtammänner/Stadtamtsfrauen Zürich, Stadtammann- und Betreibungsamt Zürich 03 Kolumbus-Eier sind selten – politische Einigkeit erst recht! Dennoch: die Einführung einer schweizweiten Betreibungsregister-Auskunft (BRA CH) ist trickreich, insbesondere bei der Rechtssetzung resp. Bestimmung der Business Ownership. Die Verwendung der AHVN / UID und einer zentralen Referenztabelle als game-changer: Wir begeben uns auf eine Entdeckungsreise nach Nutzen und Funktionsweise der BRA CH und denken etwas über den Tellerrand hinaus!
URL;VALUE=URI:https://e-governmentforum.ch/plenary-presentation/von-kolumbus-eiern-digitalisierungshemmern/
SUMMARY:Von Kolumbus-Eiern &amp; Digitalisierungshemmern
DTSTART;VALUE=DATE:20260311T113500Z
TRANSP:OPAQUE
BEGIN:VALARM
ACTION:DISPLAY
TRIGGER;VALUE=DATE-TIME:20260420T044422Z
DESCRIPTION:Reminder for Von Kolumbus-Eiern &amp; Digitalisierungshemmern
END:VALARM
END:VEVENT
END:VCALENDAR';
	