BEGIN:VCALENDAR
VERSION:2.0
PRODID:-//Swiss eGovernment Forum
//NONSGML v1.0//EN
CALSCALE:GREGORIAN
X-WR-CALNAME:Swiss eGovernment Forum
BEGIN:VEVENT
DTEND;VALUE=DATE:20260310T051000Z
UID:37918
DTSTAMP:20260420T044611Z
DESCRIPTION:Patrick Toenz, CEO t2b AG Sicher, Exakt, Lokal, Souverän: Automatisierte Bescheid-Entwürfe mit Open-Source KI auf der eigenen Infrastruktur In vielen Verwaltungsverfahren bindet das Analysieren von Antrage und Daten, sowie das Verfassen von Verfügungen enorme Kapazitäten. t2b thalabus, eine on-prem Open-Source-Plattform mit Open-Source-LLMs, reduziert diese Arbeit um bis zu 90% – bei voller Datenhoheit in der Schweiz, nachvollziehbarer KI und menschlicher Kontrolle. Am Beispiel eines Asyl-Demoprojekts zeigen wir live, wie Sachbearbeiter aus Akten, Vorlagen und Rechtsgrundlagen ein belastbaren Entscheidentwurf bekommen und bearbeiten können. thalabus integriert Daten aus Quellsystemen, baut automatisch Ontologien und Wissensgraphen auf und stellt Konsistenz sicher – skalierbar für alle Antrags- und Entscheidprozesse (Bewilligungen, Gesuche, Verfügungen). Bonus: Den selben Wissenskern kann natürlich auch ein sicherer Chatbot für Mitarbeiter- und BürgerInnen verwenden.
URL;VALUE=URI:https://e-governmentforum.ch/solution-presentation/90-effizienter-entscheiden-wie-lokale-ki-komplexe-behoerdenverfahren-revolutionieren-koennte-am-beispiel-asylwesen/
SUMMARY:90% effizienter entscheiden: Wie lokale KI komplexe Behördenverfahren revolutionieren könnte – am Beispiel Asylwesen
DTSTART;VALUE=DATE:20260310T044000Z
TRANSP:OPAQUE
BEGIN:VALARM
ACTION:DISPLAY
TRIGGER;VALUE=DATE-TIME:20260420T044611Z
DESCRIPTION:Reminder for 90% effizienter entscheiden: Wie lokale KI komplexe Behördenverfahren revolutionieren könnte – am Beispiel Asylwesen
END:VALARM
END:VEVENT
END:VCALENDAR';
	