BEGIN:VCALENDAR
VERSION:2.0
PRODID:-//Swiss eGovernment Forum
//NONSGML v1.0//EN
CALSCALE:GREGORIAN
X-WR-CALNAME:Swiss eGovernment Forum
BEGIN:VEVENT
DTEND;VALUE=DATE:20260310T113000Z
UID:36979
DTSTAMP:20260420T045943Z
DESCRIPTION:Christof Zogg, Head of Business Transformation, Swisscom Steff Schnetzler, CEO, Innovative Web AG (i-web) Lester Thompson, Leiter Verkauf &amp; Marketing, Innovative Web AG (i-web) KI-Tools erhöhen die Produktivität der Mitarbeitenden massiv. Doch die meisten internen Daten der öffentlichen Verwaltung dürfen nicht an internationale Anbieter weitergegeben oder zum Training verwendet werden. Von i-web und Swisscom erhalten Städte, Gemeinden und Kantone einen datenschutzkonformen KI-Assistenten für ihre Mitarbeitenden und für Benutzende ihrer Webangebote (Suche und Chat). Die Daten bleiben in den Rechenzentren in der Schweiz.
URL;VALUE=URI:https://e-governmentforum.ch/solution-presentation/ai-assistent-fuer-gemeinden-und-kantone/
SUMMARY:AI-Assistent für Gemeinden und Kantone
DTSTART;VALUE=DATE:20260310T110000Z
TRANSP:OPAQUE
BEGIN:VALARM
ACTION:DISPLAY
TRIGGER;VALUE=DATE-TIME:20260420T045943Z
DESCRIPTION:Reminder for AI-Assistent für Gemeinden und Kantone
END:VALARM
END:VEVENT
END:VCALENDAR';
	