BEGIN:VCALENDAR
VERSION:2.0
PRODID:-//Swiss eGovernment Forum
//NONSGML v1.0//EN
CALSCALE:GREGORIAN
X-WR-CALNAME:Swiss eGovernment Forum
BEGIN:VEVENT
DTEND;VALUE=DATE:20260310T113000Z
UID:37130
DTSTAMP:20260420T044105Z
DESCRIPTION:Reto Schubnell, Business Developement, Ubique Innovation AG Titus Fleck, Bereichsleiter Projekte und Applikationen ARI AG, ARI AG Der Appenzell Ausserrhoden ist technisch bereit zur Ausstellung von digitalen Nachweisen wie Wohnsitzbestätigungen in seinem Portal mein.ar.ch
URL;VALUE=URI:https://e-governmentforum.ch/solution-presentation/digitale-nachweise-im-egovernment-einsatz/
SUMMARY:Digitale Nachweise im eGovernment Einsatz
DTSTART;VALUE=DATE:20260310T110000Z
TRANSP:OPAQUE
BEGIN:VALARM
ACTION:DISPLAY
TRIGGER;VALUE=DATE-TIME:20260420T044105Z
DESCRIPTION:Reminder for Digitale Nachweise im eGovernment Einsatz
END:VALARM
END:VEVENT
END:VCALENDAR';
	