BEGIN:VCALENDAR
VERSION:2.0
PRODID:-//Swiss eGovernment Forum
//NONSGML v1.0//EN
CALSCALE:GREGORIAN
X-WR-CALNAME:Swiss eGovernment Forum
BEGIN:VEVENT
DTEND;VALUE=DATE:20260310T051000Z
UID:36981
DTSTAMP:20260420T044446Z
DESCRIPTION:Marcel Kessler, Leiter Architektur und Standardisierung, Geschäftsstelle Digitale Verwaltung Schweiz Schweizer Verwaltungen können künftig eigene digitale Nachweise wie bspw. die Wohnsitzbestätigung direkt in die swiyu-Wallet ausstellen. Für die effiziente Verwaltung, Ausstellung und Prüfung solcher Nachweise brauchen Behörden eine dedizierte Aussteller- und Verifikator-Infrastruktur. Diese Nachweisverwaltung stellt die DVS zur Verfügung – zusammen mit ergänzenden Bausteinen, die das Erstellen standardisierter digitaler Nachweise vereinfachen.
URL;VALUE=URI:https://e-governmentforum.ch/solution-presentation/digitale-nachweise-in-die-swiyu-wallet-ausstellen/
SUMMARY:Digitale Nachweise in die swiyu-Wallet ausstellen
DTSTART;VALUE=DATE:20260310T044000Z
TRANSP:OPAQUE
BEGIN:VALARM
ACTION:DISPLAY
TRIGGER;VALUE=DATE-TIME:20260420T044446Z
DESCRIPTION:Reminder for Digitale Nachweise in die swiyu-Wallet ausstellen
END:VALARM
END:VEVENT
END:VCALENDAR';
	