BEGIN:VCALENDAR
VERSION:2.0
PRODID:-//Swiss eGovernment Forum
//NONSGML v1.0//EN
CALSCALE:GREGORIAN
X-WR-CALNAME:Swiss eGovernment Forum
BEGIN:VEVENT
DTEND;VALUE=DATE:20260311T113000Z
UID:37811
DTSTAMP:20260420T104149Z
DESCRIPTION:Wie gelingt der Weg von der «Digital First»-Strategie zur wirksamen Umsetzung im Alltag? Der Beitrag zeigt, wie mit einem standardisierten Vorgehen auf Basis von SAFe klare Governance-Strukturen, transparente Verantwortlichkeiten und wiederholbare Prozesse etabliert wurden. So können neue digitale Services für Bürger:innen und Geschäftspartner kontrolliert, qualitativ gesichert und skalierbar bereitgestellt werden. Ein praxisnaher Erfahrungsaustausch aus egov.swiss – gemeinsam mit UVEK, APP und RUBICON.
URL;VALUE=URI:https://e-governmentforum.ch/solution-presentation/digitale-services-unter-kontrolle-best-practices-aus-egov-swiss/
SUMMARY:Digitale Services unter Kontrolle – Best Practices aus egov.swiss
DTSTART;VALUE=DATE:20260311T110000Z
TRANSP:OPAQUE
BEGIN:VALARM
ACTION:DISPLAY
TRIGGER;VALUE=DATE-TIME:20260420T104149Z
DESCRIPTION:Reminder for Digitale Services unter Kontrolle – Best Practices aus egov.swiss
END:VALARM
END:VEVENT
END:VCALENDAR';
	