BEGIN:VCALENDAR
VERSION:2.0
PRODID:-//Swiss eGovernment Forum
//NONSGML v1.0//EN
CALSCALE:GREGORIAN
X-WR-CALNAME:Swiss eGovernment Forum
BEGIN:VEVENT
DTEND;VALUE=DATE:20260311T113000Z
UID:36985
DTSTAMP:20260420T044234Z
DESCRIPTION:Kevin Forster, Chief Operating Officer, DeepCloud AG Stefan Moser, Team- und Bereichsleiter, Talus Informatik AG Der Case Basel-Stadt zeigt, wie zielgerichtete Digitalisierung spürbare Verbesserungen ermöglicht: automatisierte Siegelungen in innosolv und die schnelle Datenvalidierung am Schalter-Tablet machen Verwaltungsabläufe effizienter und Bürgerprozesse nutzerfreundlicher. Ergänzend dazu präsentiert DeepCloud, wie KI die Verwaltungsarbeit weiter stärkt – mit DeepAnalyze für flexibles, präzises Reporting, DeepConfidential für sichere und datenschutzkonforme KI-Nutzung sowie DeepLaw und DeepInfos für fundierte, datenbasierte Rechts- und Unternehmensanalysen. So entsteht eine moderne, vorausschauende Verwaltung, die bereit ist für die Zukunft ist.
URL;VALUE=URI:https://e-governmentforum.ch/solution-presentation/effiziente-verwaltung-dank-ki-automation/
SUMMARY:Effiziente Verwaltung dank KI &amp; Automation
DTSTART;VALUE=DATE:20260311T110000Z
TRANSP:OPAQUE
BEGIN:VALARM
ACTION:DISPLAY
TRIGGER;VALUE=DATE-TIME:20260420T044234Z
DESCRIPTION:Reminder for Effiziente Verwaltung dank KI &amp; Automation
END:VALARM
END:VEVENT
END:VCALENDAR';
	