BEGIN:VCALENDAR
VERSION:2.0
PRODID:-//Swiss eGovernment Forum
//NONSGML v1.0//EN
CALSCALE:GREGORIAN
X-WR-CALNAME:Swiss eGovernment Forum
BEGIN:VEVENT
DTEND;VALUE=DATE:20260311T021500Z
UID:36988
DTSTAMP:20260420T044213Z
DESCRIPTION:Marcel Kessler, Leiter Architektur und Standardisierung, Geschäftsstelle Digitale Verwaltung Schweiz Dominic Müller, Geschäftsleiter, Verein eCH Die Herausforderungen der digitalen Transformation im föderalen Verwaltungskontext sind vielfältig. Interoperabilität ist ein Schlüssel für die effiziente Zusammenarbeit zwischen den Organisationen. Dafür braucht es qualitativ hochwertige Standards. Erhalten Sie in dieser Solution Einblick in die DVS-Arbeitsgruppe Architektur und erfahren Sie, wie sie Standardisierung praxisnah und mit Fokus auf die Interoperabilität interföderal voranbringt.
URL;VALUE=URI:https://e-governmentforum.ch/solution-presentation/effiziente-zusammenarbeit-mit-standards/
SUMMARY:Effiziente Zusammenarbeit mit Standards
DTSTART;VALUE=DATE:20260311T014500Z
TRANSP:OPAQUE
BEGIN:VALARM
ACTION:DISPLAY
TRIGGER;VALUE=DATE-TIME:20260420T044213Z
DESCRIPTION:Reminder for Effiziente Zusammenarbeit mit Standards
END:VALARM
END:VEVENT
END:VCALENDAR';
	