BEGIN:VCALENDAR
VERSION:2.0
PRODID:-//Swiss eGovernment Forum
//NONSGML v1.0//EN
CALSCALE:GREGORIAN
X-WR-CALNAME:Swiss eGovernment Forum
BEGIN:VEVENT
DTEND;VALUE=DATE:20260310T113000Z
UID:37024
DTSTAMP:20260420T044128Z
DESCRIPTION:Thomas Blum, Geschäftsführer, VERBAND SOLOTHURNER EINWOHNERGEMEINDEN VSEG Juerg Kubli, Fachliche Begleitung, Verein Myni Gmeind Was geschieht, wenn mehr als 100 Gemeinden eines Kantons ihre Gemeindeleistungen gemeinsam entwickeln, ihr Synergiepotential erschliessen? GemeindeConnect wurde in den letzten zwei Jahren als gemeinsames Projekt des Schweizerischen Gemeindeverbands und des Vereins MyniGmeind, mit Unterstützung der Digitalen Verwaltung Schweiz aufgebaut. Die Solothurner Gemeinden haben als Pilotorganisation verschiedene Services erarbeitet. Ein Erfahrungsbericht.
URL;VALUE=URI:https://e-governmentforum.ch/solution-presentation/gemeindeconnect-erfahrungsbericht-aus-solothurn/
SUMMARY:GemeindeConnect: Erfahrungsbericht aus Solothurn
DTSTART;VALUE=DATE:20260310T110000Z
TRANSP:OPAQUE
BEGIN:VALARM
ACTION:DISPLAY
TRIGGER;VALUE=DATE-TIME:20260420T044128Z
DESCRIPTION:Reminder for GemeindeConnect: Erfahrungsbericht aus Solothurn
END:VALARM
END:VEVENT
END:VCALENDAR';
	