BEGIN:VCALENDAR
VERSION:2.0
PRODID:-//Swiss eGovernment Forum
//NONSGML v1.0//EN
CALSCALE:GREGORIAN
X-WR-CALNAME:Swiss eGovernment Forum
BEGIN:VEVENT
DTEND;VALUE=DATE:20260310T051000Z
UID:37127
DTSTAMP:20260420T043927Z
DESCRIPTION:Marco Hauri, Director Strategy &amp; Experience, Merkle Switzerland AG Nathalie Dutler, Account Director Public, Merkle Switzerland AG KI ist in aller Munde – doch wo liegen echte Chancen für die öffentliche Verwaltung und wo verbirgt sich mehr Hype als Mehrwert? Wir beleuchten aktuelle Trends, zeigen Anwendungsfälle und diskutieren Risiken für Anwender:innen und Organisationen. Gemeinsam prüfen wir Ideen auf Potenzial und stellen ein Instrument vor, das schnelle, fundierte Entscheidungen ermöglicht.
URL;VALUE=URI:https://e-governmentforum.ch/solution-presentation/ki-anwendungfaelle-oder-anwenderfalle/
SUMMARY:KI &#8211; Anwendungfälle oder Anwenderfalle?
DTSTART;VALUE=DATE:20260310T044000Z
TRANSP:OPAQUE
BEGIN:VALARM
ACTION:DISPLAY
TRIGGER;VALUE=DATE-TIME:20260420T043927Z
DESCRIPTION:Reminder for KI &#8211; Anwendungfälle oder Anwenderfalle?
END:VALARM
END:VEVENT
END:VCALENDAR';
	