BEGIN:VCALENDAR
VERSION:2.0
PRODID:-//Swiss eGovernment Forum
//NONSGML v1.0//EN
CALSCALE:GREGORIAN
X-WR-CALNAME:Swiss eGovernment Forum
BEGIN:VEVENT
DTEND;VALUE=DATE:20260311T021500Z
UID:36987
DTSTAMP:20260420T043927Z
DESCRIPTION:Kevin Naef, Sovereign Cloud Architect, SAP (Schweiz) AG SAP stärkt die digitale Souveränität in der Schweiz: Um den wachsenden Anforderungen an Datenhoheit im Zuge geopolitischer Veränderungen in Europa und insbesondere im Schweizer Markt gerecht zu werden, erweitert SAP sein Cloud-Portfolio um souveräne Lösungen. Derzeit entstehen drei Sovereign-Cloud-Modelle, die zurzeit entwickelt werden. Der klare Schwerpunkt: Erfüllung höchster Sicherheitsansprüche in der Datenverarbeitung.
URL;VALUE=URI:https://e-governmentforum.ch/solution-presentation/sap-sovereign-cloud/
SUMMARY:SAP Sovereign Cloud
DTSTART;VALUE=DATE:20260311T014500Z
TRANSP:OPAQUE
BEGIN:VALARM
ACTION:DISPLAY
TRIGGER;VALUE=DATE-TIME:20260420T043927Z
DESCRIPTION:Reminder for SAP Sovereign Cloud
END:VALARM
END:VEVENT
END:VCALENDAR';
	