BEGIN:VCALENDAR
VERSION:2.0
PRODID:-//Swiss eGovernment Forum
//NONSGML v1.0//EN
CALSCALE:GREGORIAN
X-WR-CALNAME:Swiss eGovernment Forum
BEGIN:VEVENT
DTEND;VALUE=DATE:20260310T043500Z
UID:36808
DTSTAMP:20260420T044521Z
DESCRIPTION:Phillip Baruffa, Geschäftsleiter AKV, Aufsichtskommission Vierwaldstättersee Sarah Sumersberger, Projektkoordinator, aforms &amp; services GmbH
URL;VALUE=URI:https://e-governmentforum.ch/solution-presentation/schiffsmelde-und-reinigungspflicht-smrp-die-formularplattform-fuer-12-kanton/
SUMMARY:Schiffsmelde- und reinigungspflicht (SMRP) – Die Formularplattform für 12 Kantone
DTSTART;VALUE=DATE:20260310T040500Z
TRANSP:OPAQUE
BEGIN:VALARM
ACTION:DISPLAY
TRIGGER;VALUE=DATE-TIME:20260420T044521Z
DESCRIPTION:Reminder for Schiffsmelde- und reinigungspflicht (SMRP) – Die Formularplattform für 12 Kantone
END:VALARM
END:VEVENT
END:VCALENDAR';
	