BEGIN:VCALENDAR
VERSION:2.0
PRODID:-//Swiss eGovernment Forum
//NONSGML v1.0//EN
CALSCALE:GREGORIAN
X-WR-CALNAME:Swiss eGovernment Forum
BEGIN:VEVENT
DTEND;VALUE=DATE:20260310T043500Z
UID:36977
DTSTAMP:20260420T045031Z
DESCRIPTION:Giovanni Borrelli, CEO, Collecta AG Das politische Ziel ist unbestritten: Ein einfacher, sicherer und rechtskonformer Zugang zu schweizweiten Betreibungsauskünften. Doch der Weg zur Umsetzung ist umstritten: Zentralisierte Neuentwicklung mit hohen Kosten und Risiken – oder eine bewährte, föderal abgestützte eSchKG-Lösung? Zwei Ansätze, zwei Philosophien – mit weitreichenden Folgen für Datenschutz, Kosten und Akzeptanz.
URL;VALUE=URI:https://e-governmentforum.ch/solution-presentation/schweizweite-betreibungsregisterauskunft-bra-ch-ja-aber-wie/
SUMMARY:Schweizweite Betreibungsregisterauskunft BRA CH – Ja, aber wie?
DTSTART;VALUE=DATE:20260310T040500Z
TRANSP:OPAQUE
BEGIN:VALARM
ACTION:DISPLAY
TRIGGER;VALUE=DATE-TIME:20260420T045031Z
DESCRIPTION:Reminder for Schweizweite Betreibungsregisterauskunft BRA CH – Ja, aber wie?
END:VALARM
END:VEVENT
END:VCALENDAR';
	