BEGIN:VCALENDAR
VERSION:2.0
PRODID:-//Swiss eGovernment Forum
//NONSGML v1.0//EN
CALSCALE:GREGORIAN
X-WR-CALNAME:Swiss eGovernment Forum
BEGIN:VEVENT
DTEND;VALUE=DATE:20260310T051000Z
UID:37288
DTSTAMP:20260420T044358Z
DESCRIPTION:Dr. sc. nat. ETH P. Martin Maier, ETH Simon Bäder, Business Developer, CM Informatik AG Die ETH und CMI zeigen aus erster Hand, wie KI+ im Alltag funktioniert: eine integrierte, sichere KI direkt im CMI-System – ohne Abhängigkeit von ChatGPT und Co. Der Praxiseinblick macht sichtbar, wie Verwaltungen und weitere Organisationen der öffentlichen Hand spürbar entlastet werden.
URL;VALUE=URI:https://e-governmentforum.ch/solution-presentation/wie-ki-verwaltungen-spuerbar-entlastet/
SUMMARY:Wie KI+ Verwaltungen spürbar entlastet
DTSTART;VALUE=DATE:20260310T044000Z
TRANSP:OPAQUE
BEGIN:VALARM
ACTION:DISPLAY
TRIGGER;VALUE=DATE-TIME:20260420T044358Z
DESCRIPTION:Reminder for Wie KI+ Verwaltungen spürbar entlastet
END:VALARM
END:VEVENT
END:VCALENDAR';
	